BEGIN:VCALENDAR
VERSION:2.0
PRODID:-//Frankfurt Pirates - ECPv6.15.20//NONSGML v1.0//EN
CALSCALE:GREGORIAN
METHOD:PUBLISH
X-WR-CALNAME:Frankfurt Pirates
X-ORIGINAL-URL:https://frankfurt-pirates.de
X-WR-CALDESC:Veranstaltungen für Frankfurt Pirates
REFRESH-INTERVAL;VALUE=DURATION:PT1H
X-Robots-Tag:noindex
X-PUBLISHED-TTL:PT1H
BEGIN:VTIMEZONE
TZID:Europe/Berlin
BEGIN:DAYLIGHT
TZOFFSETFROM:+0100
TZOFFSETTO:+0200
TZNAME:CEST
DTSTART:20210328T010000
END:DAYLIGHT
BEGIN:STANDARD
TZOFFSETFROM:+0200
TZOFFSETTO:+0100
TZNAME:CET
DTSTART:20211031T010000
END:STANDARD
BEGIN:DAYLIGHT
TZOFFSETFROM:+0100
TZOFFSETTO:+0200
TZNAME:CEST
DTSTART:20220327T010000
END:DAYLIGHT
BEGIN:STANDARD
TZOFFSETFROM:+0200
TZOFFSETTO:+0100
TZNAME:CET
DTSTART:20221030T010000
END:STANDARD
BEGIN:DAYLIGHT
TZOFFSETFROM:+0100
TZOFFSETTO:+0200
TZNAME:CEST
DTSTART:20230326T010000
END:DAYLIGHT
BEGIN:STANDARD
TZOFFSETFROM:+0200
TZOFFSETTO:+0100
TZNAME:CET
DTSTART:20231029T010000
END:STANDARD
BEGIN:DAYLIGHT
TZOFFSETFROM:+0100
TZOFFSETTO:+0200
TZNAME:CEST
DTSTART:20240331T010000
END:DAYLIGHT
BEGIN:STANDARD
TZOFFSETFROM:+0200
TZOFFSETTO:+0100
TZNAME:CET
DTSTART:20241027T010000
END:STANDARD
BEGIN:DAYLIGHT
TZOFFSETFROM:+0100
TZOFFSETTO:+0200
TZNAME:CEST
DTSTART:20250330T010000
END:DAYLIGHT
BEGIN:STANDARD
TZOFFSETFROM:+0200
TZOFFSETTO:+0100
TZNAME:CET
DTSTART:20251026T010000
END:STANDARD
END:VTIMEZONE
BEGIN:VEVENT
DTSTART;TZID=Europe/Berlin:20240223T190000
DTEND;TZID=Europe/Berlin:20240223T210000
DTSTAMP:20260424T191818
CREATED:20240207T110241Z
LAST-MODIFIED:20240207T110241Z
UID:4040-1708714800-1708722000@frankfurt-pirates.de
SUMMARY:Cheerleading/Cheerdance Spring-Try-Out 2024
DESCRIPTION:DIE FRANKFURT PIRATES CHEERLEADER & CHEERDANCER SUCHEN NACHWUCHS – und laden ein zu ihrem alljährlichen „Spring-Try-Out“ am 23. Februar 2024 \n  \nDie Frankfurt Pirates sind ein etablierter Football- und Cheerleading-Verein\, der Kindern\, Jugendlichen und Erwachsenen seit über 25 Jahren einen abwechslungsreichen Team- und Wettkampfsport bietet. \nDie Cheerleader und Cheerdancer der Pirates suchen immer wieder Nachwuchs und laden einmal im Jahr zu ihrem großen SPRING-TRY-OUT ein. Der nächste Termin ist am Freitag\, den 23. Februar 2024\, um 19 Uhr in der Sporthalle der Waldorfschule\, Friedlebenstraße 52\, 60433 Frankfurt am Main. \nEingeladen sind Interessentinnen für folgende Altersgruppen: Peewees (8-11 J.)\, Junior-Team (12-15 J.)\, Senior-Team (ab 16 J.) und die Cheerdance-Teams ( Juniors ab 12\, Seniors ab 16 J.). Zum Try-Out sind mitzubringen: Sportbekleidung\, Turnschuhe und etwas zu Trinken. \nEgal ob\, Cheerleading oder Cheerdance\, die Pirates suchen Mädchen für die Heimspiele ihrer vier Football-Teams sowie für diverse Auftritte. \nAnmeldung bei Connie Williams per E-Mail: info@frankfurt-pirates.de. \nAlle Teams freuen sich über engagierte und begeisterte Neueinsteiger. Vorkenntnisse sind nicht erforderlich! Die Pirates sind übrigens der einzige Verein in Frankfurt\, der Cheerleading und Cheerdance in allen Altersstufen im Breiten- und Leistungssport anbietet.
URL:https://frankfurt-pirates.de/event/cheerleading-cheerdance-spring-try-out-2024/
LOCATION:Sporthalle Waldorfschule\, Friedlebenstraße 52\, Frankfurt\, Hessen\, 64033\, Deutschland
CATEGORIES:Cheerleader,Tryout
END:VEVENT
BEGIN:VEVENT
DTSTART;TZID=Europe/Berlin:20240217T110000
DTEND;TZID=Europe/Berlin:20240217T170000
DTSTAMP:20260424T191818
CREATED:20240207T194743Z
LAST-MODIFIED:20240207T194743Z
UID:4111-1708167600-1708189200@frankfurt-pirates.de
SUMMARY:U13 Flag-Football-Turnier in Frankfurt am Main
DESCRIPTION:Die Frankfurt Pirates freuen sich\, bekannt zu geben\, dass sie am Samstag\, den 17. Februar 2024 Gastgeber eines U13 Flag Football Turniers sein werden. Das spannende Event verspricht ein Tag voller Sport\, Spaß und Gemeinschaft für die Jugendlichen zu sein. \nFlag Football ist eine aufregende Variante des American Footballs\, bei der Spieler anstelle von Tackles die Flaggen ihrer Gegner abziehen müssen\, um sie zu stoppen. Diese schnelle und dynamische Sportart erfreut sich bei Jugendlichen zunehmender Beliebtheit\, da sie die grundlegenden Techniken und Strategien des American Footballs vermittelt\, jedoch ohne den physischen Kontakt. \nDas Turnier wird die Frankfurt Pirates\, Hanau Hornets und Kelkheim Lizzards zusammenbringen\, um in einem fairen und wettbewerbsfähigen Umfeld gegeneinander anzutreten.  Um 11 Uhr beginnt das Turnier mit den Pirates gegen die Lizzards\, um 12:15 treten Hornets gegen die Lizzards an. Das letzte Spiel des Tages bestreiten die Pirates gegen die Hornets um 13:30. \nWir laden alle Jugendlichen\, Eltern und Sportbegeisterten herzlich ein\, am 17. Februar 2024 zur Sporthalle im Sportpark Preungesheim zu kommen und dieses aufregende Jugend Flag Football Turnier zu genießen.  (Goldpeppingstraße 8\, 60435 Frankfurt am Main). Der Eintritt ist frei. \nHerzlichen Dank an unseren Booster Club\, der für das leibliche Wohl sorgen wird und an unsere Junior-Cheerleader und Cheerdancer\, die die Pirates kräftig anfeuern werden.
URL:https://frankfurt-pirates.de/event/u13-flag-football-turnier/
CATEGORIES:Football
END:VEVENT
BEGIN:VEVENT
DTSTART;VALUE=DATE:20240211
DTEND;VALUE=DATE:20240212
DTSTAMP:20260424T191818
CREATED:20240207T184246Z
LAST-MODIFIED:20240207T185129Z
UID:4035-1707609600-1707695999@frankfurt-pirates.de
SUMMARY:Frankfurt Pirates – Fastnachtsumzug Großer Rat und Klaa Paris
DESCRIPTION:Wie auch in den Vorjahren sind die Frankfurt Pirates bei dem Fastnachtsumzug des „Großen Rat“ am Sonntag\, den 11. Februar 2024 sowie in „Klaa Paris“ am Faschingsdienstag dabei.  Unsere Cheerleader und Cheerdancer werden das Publikum mit ihren neu einstudierten Choreographien begeistern. Die Mädels haben sich in den letzten Wochen intensiv darauf vorbereitet. Unsere Football-Abteilung ist natürlich auch vertreten. Die Jungs dürfen die „Kamelle“ verteilen. \n„Wir freuen uns jedes Jahr aufs Neue bei diesen Umzügen teilzunehmen\, so ist es für unsere Mitglieder eine gute Erfahrung und eine willkommene Abwechslung zum normale Trainings- und Spielbetrieb“\, so der 1. Vorsitzende Keith Williams.
URL:https://frankfurt-pirates.de/event/fashing-2024/
CATEGORIES:Cheerleader
END:VEVENT
BEGIN:VEVENT
DTSTART;TZID=Europe/Berlin:20231029T120000
DTEND;TZID=Europe/Berlin:20231029T150000
DTSTAMP:20260424T191818
CREATED:20231001T150458Z
LAST-MODIFIED:20231012T092914Z
UID:3906-1698580800-1698591600@frankfurt-pirates.de
SUMMARY:American Football Tryout
DESCRIPTION:Möchtest Du American Football besser kennenlernen außer nur um TV dabei zuzusehen? Wir hätten da etwas für Dich! \nAm Sonntag\, den 29.10.2023. laden wir zu einem Tryout ein\, um Dir die Möglichkeit zu geben\, diesen tollen Mannschaftssport auszuprobieren. \nDie Positionen im American Football sind so vielfältig\, so dass wir dafür auch verschiedenste Typen brauchen. \n\nSonntag\, 29.10.2023\, 12 Uhr\n\nSportplatz Am Römerhof 13. 60486 Frankfurt am Main\n\n\nBring normale Sportbekleidung mit. Anmeldung unter: info@frankfurt-pirates.de oder komm einfach vorbei! \nEingeladen sind Interessenten für das Herren-Team sowie die Jugendmannschaften.
URL:https://frankfurt-pirates.de/event/american-football-tryout/
CATEGORIES:Football,Tryout
END:VEVENT
BEGIN:VEVENT
DTSTART;TZID=Europe/Berlin:20230827T150000
DTEND;TZID=Europe/Berlin:20230827T170000
DTSTAMP:20260424T191818
CREATED:20230411T122711Z
LAST-MODIFIED:20230411T122711Z
UID:3656-1693148400-1693155600@frankfurt-pirates.de
SUMMARY:Home: Frankfurt Pirates - Rüsselsheim Crusaders
DESCRIPTION:Heimspiel in Frankfurt am 27.08. um 15:00 Uhr
URL:https://frankfurt-pirates.de/event/home-frankfurt-pirates-ruesselsheim-crusaders/
LOCATION:Bezirkssportanlage Nieder-Eschbach\, Heinrich-Becker-Straße 12\, Frankfurt\, 60437
END:VEVENT
BEGIN:VEVENT
DTSTART;TZID=Europe/Berlin:20230813T150000
DTEND;TZID=Europe/Berlin:20230813T180000
DTSTAMP:20260424T191818
CREATED:20230411T095151Z
LAST-MODIFIED:20230411T122600Z
UID:3646-1691938800-1691949600@frankfurt-pirates.de
SUMMARY:Home: Frankfurt Pirates - Montabaur Fighting Farmers
DESCRIPTION:Heimspiel in Frankfurt am 13.08. um 15:00 Uhr
URL:https://frankfurt-pirates.de/event/home-frankfurt-pirates-montabaur-fighting-farmers/
LOCATION:Bezirkssportanlage Nieder-Eschbach\, Heinrich-Becker-Straße 12\, Frankfurt\, 60437
END:VEVENT
BEGIN:VEVENT
DTSTART;TZID=Europe/Berlin:20230723T150000
DTEND;TZID=Europe/Berlin:20230723T180000
DTSTAMP:20260424T191818
CREATED:20230411T095034Z
LAST-MODIFIED:20230411T122538Z
UID:3643-1690124400-1690135200@frankfurt-pirates.de
SUMMARY:Home: Frankfurt Pirates - Darmstadt Diamonds
DESCRIPTION:Heimspiel in Frankfurt am 23.07. um 15:00 Uhr
URL:https://frankfurt-pirates.de/event/home-frankfurt-pirates-darmstadt-diamonds/
LOCATION:Bezirkssportanlage Nieder-Eschbach\, Heinrich-Becker-Straße 12\, Frankfurt\, 60437
END:VEVENT
BEGIN:VEVENT
DTSTART;TZID=Europe/Berlin:20230716T150000
DTEND;TZID=Europe/Berlin:20230716T180000
DTSTAMP:20260424T191818
CREATED:20230411T094722Z
LAST-MODIFIED:20230411T094732Z
UID:3639-1689519600-1689530400@frankfurt-pirates.de
SUMMARY:Away: Mainz Golden Eagles - Frankfurt Pirates
DESCRIPTION:Auswärtsspiel in Mainz am 16.07. um 15:00 Uhr
URL:https://frankfurt-pirates.de/event/away-mainz-golden-eagles-frankfurt-pirates/
LOCATION:Mainz: BSA Mombach\, Auf d. Langen Lein 2A\, Mainz\, 55120
END:VEVENT
BEGIN:VEVENT
DTSTART;TZID=Europe/Berlin:20230709T150000
DTEND;TZID=Europe/Berlin:20230709T180000
DTSTAMP:20260424T191818
CREATED:20230411T094502Z
LAST-MODIFIED:20230411T122448Z
UID:3636-1688914800-1688925600@frankfurt-pirates.de
SUMMARY:Home: Frankfurt Pirates - Wiesbaden Phantoms
DESCRIPTION:Heimspiel in Frankfurt am 09.07. um 15:00 Uhr
URL:https://frankfurt-pirates.de/event/home-frankfurt-pirates-wiesbaden-phantoms/
LOCATION:Bezirkssportanlage Nieder-Eschbach\, Heinrich-Becker-Straße 12\, Frankfurt\, 60437
END:VEVENT
BEGIN:VEVENT
DTSTART;TZID=Europe/Berlin:20230625T170000
DTEND;TZID=Europe/Berlin:20230625T200000
DTSTAMP:20260424T191818
CREATED:20230411T122034Z
LAST-MODIFIED:20230411T122034Z
UID:3653-1687712400-1687723200@frankfurt-pirates.de
SUMMARY:Home: Frankfurt Pirates - Kassel Titans
DESCRIPTION:Heimspiel in Frankfurt am 25.06. um 17:00 Uhr \n 
URL:https://frankfurt-pirates.de/event/home-frankfurt-pirates-kassel-titans/
LOCATION:Bezirkssportanlage Nieder-Eschbach\, Heinrich-Becker-Straße 12\, Frankfurt\, 60437
END:VEVENT
BEGIN:VEVENT
DTSTART;TZID=Europe/Berlin:20230617T160000
DTEND;TZID=Europe/Berlin:20230617T190000
DTSTAMP:20260424T191818
CREATED:20230411T121752Z
LAST-MODIFIED:20230411T122321Z
UID:3650-1687017600-1687028400@frankfurt-pirates.de
SUMMARY:Away: Montabaur Fighting Farmers - Frankfurt Pirates
DESCRIPTION:Auswärtsspiel in Montabaur am 17.06. um 16:00 Uhr
URL:https://frankfurt-pirates.de/event/away-montabaur-fighting-farmers-frankfurt-pirates/
LOCATION:Montabaur: Mons-Tabor-Stadion\, Von-Bodelschwingh-Straße 25\, Montabaur\, 56410
END:VEVENT
BEGIN:VEVENT
DTSTART;TZID=Europe/Berlin:20230520T150000
DTEND;TZID=Europe/Berlin:20230520T180000
DTSTAMP:20260424T191818
CREATED:20230411T093957Z
LAST-MODIFIED:20230411T122254Z
UID:3633-1684594800-1684605600@frankfurt-pirates.de
SUMMARY:Away: Kassel Titans – Frankfurt Pirates
DESCRIPTION:Auswärtsspiel in Kasse am 20.05. um 15:00 Uhr
URL:https://frankfurt-pirates.de/event/away-kassel-titans-frankfurt-pirates/
LOCATION:Kassel: Hessenkampfbahn\, Auedamm 2\, Kassel\, 34121
END:VEVENT
BEGIN:VEVENT
DTSTART;TZID=Europe/Berlin:20230422T153000
DTEND;TZID=Europe/Berlin:20230422T183000
DTSTAMP:20260424T191818
CREATED:20230411T092947Z
LAST-MODIFIED:20230411T122227Z
UID:3628-1682177400-1682188200@frankfurt-pirates.de
SUMMARY:Away: Kaiserslautern Pikes - Frankfurt Pirates
DESCRIPTION:Auswärtsspiel in Kaiserslautern am 22.04. um 15:30 Uhr
URL:https://frankfurt-pirates.de/event/away-kaiserslautern-pikes-frankfurt-pirates/
LOCATION:Kaiserslautern: Schulzentrum Süd\, Im Stadtwald 2\, Kaiserslautern\, 67663
END:VEVENT
BEGIN:VEVENT
DTSTART;TZID=Europe/Berlin:20230221T133000
DTEND;TZID=Europe/Berlin:20230221T180000
DTSTAMP:20260424T191818
CREATED:20230124T142432Z
LAST-MODIFIED:20230124T142432Z
UID:3389-1676986200-1677002400@frankfurt-pirates.de
SUMMARY:Heddernheimer Fastnachtszug 2023 - Klaa Paris
DESCRIPTION:Treffpunkt für Klaa Paris: Dienstag\, 21.02.2023\, 13:30 Uhr am Heddernheimer U-Bahnhof. Wir laufen dann gemeinsam zu unserem Wagen (Zugnummer noch nicht bekannt\, jedoch in der Regel zwischen 80 und 90).
URL:https://frankfurt-pirates.de/event/heddernheimer-fastnachtszug-2023-klaa-paris/
LOCATION:Heddernheim
END:VEVENT
BEGIN:VEVENT
DTSTART;TZID=Europe/Berlin:20230219T122100
DTEND;TZID=Europe/Berlin:20230219T180000
DTSTAMP:20260424T191818
CREATED:20230124T142214Z
LAST-MODIFIED:20230124T142446Z
UID:3386-1676809260-1676829600@frankfurt-pirates.de
SUMMARY:Frankfurter Fastnachtszug 2023
DESCRIPTION:Treffpunkt Sonntag\, 19.02.2023\, 11:30 am Hauptbahnhof\, Gleis 1. \nAlternativ für die Footballer/Mitläufer: 12:00 direkt an unserem Umzugswagen  – zwischen Westhafen Tower und Rotfederring. \nIhr wollt mitlaufen? Schreibt uns eine Nachricht\, verkleidet euch als Piraten und seid dabei!
URL:https://frankfurt-pirates.de/event/frankfurter-fastnachtszug-2023/
LOCATION:Frankfurt Innenstadt
END:VEVENT
BEGIN:VEVENT
DTSTART;TZID=Europe/Berlin:20230124T163000
DTEND;TZID=Europe/Berlin:20230124T190000
DTSTAMP:20260424T191818
CREATED:20230124T140136Z
LAST-MODIFIED:20230124T142546Z
UID:3380-1674577800-1674586800@frankfurt-pirates.de
SUMMARY:Walk&Give Spendenlauf
DESCRIPTION:Treffpunkt: Beim Laufband im 1. OG zwischen den Rolltreppen\, vor Superdry.
URL:https://frankfurt-pirates.de/event/walkgive-spendenlauf/
LOCATION:MyZeil\, MyZeil\, Zeil 106\, Frankfurt am Main\, Hessen\, 60313
CATEGORIES:Football
END:VEVENT
BEGIN:VEVENT
DTSTART;TZID=Europe/Berlin:20221030T120000
DTEND;TZID=Europe/Berlin:20221030T150000
DTSTAMP:20260424T191818
CREATED:20221005T124722Z
LAST-MODIFIED:20221005T124722Z
UID:2993-1667131200-1667142000@frankfurt-pirates.de
SUMMARY:Tryout Herrenteam
DESCRIPTION:
URL:https://frankfurt-pirates.de/event/tryout-herrenteam/
LOCATION:Homefield am Römerhof\, Am Römerhof 13\, Frankfurt\, Hessen\, 60486\, Deutschland
CATEGORIES:Football,Tryout
END:VEVENT
BEGIN:VEVENT
DTSTART;TZID=Europe/Berlin:20221014T190000
DTEND;TZID=Europe/Berlin:20221014T210000
DTSTAMP:20260424T191818
CREATED:20221005T123943Z
LAST-MODIFIED:20221005T124123Z
UID:2981-1665774000-1665781200@frankfurt-pirates.de
SUMMARY:Tryout Cheerleader
DESCRIPTION:
URL:https://frankfurt-pirates.de/event/tryout-cheerleader/
LOCATION:Sporthalle Waldorfschule\, Friedlebenstraße 52\, Frankfurt\, Hessen\, 64033\, Deutschland
CATEGORIES:Cheerleader,Tryout
ATTACH;FMTTYPE=image/jpeg:https://frankfurt-pirates.de/wp-content/uploads/2022/09/pexels-cottonbro-7321036-scaled.jpg
END:VEVENT
END:VCALENDAR